BEGIN:VCALENDAR
VERSION:2.0
PRODID:-//wp-events-plugin.com//6.6.4.4//EN
BEGIN:VEVENT
UID:121@grotekerkbrouwershaven.nl
DTSTART;TZID=Europe/Amsterdam:20250419T160000
DTEND;TZID=Europe/Amsterdam:20250419T171500
DTSTAMP:20250416T083709Z
URL:https://www.grotekerkbrouwershaven.nl/Agenda/cantare-de-matthaus-passi
 on-toegelicht/
SUMMARY:Cantare - De Matthäus Passion toegelicht!
DESCRIPTION:Op zaterdagmiddag 19 april brengt het Zierikzees koor Cantare k
 oralen\, enkele delen en het slotkoor uit de Matthäus Passion van Johann 
 Sebastian Bach ten gehore. Theoloog en muziekwetenschapper Mar van der Vee
 r geeft een toelichting op de achtergronden van de teksten en muziek.\n\nH
 et is voor de vierde keer dat Cantare en Van der Veer samenwerken in de ui
 tvoering van de Matthäus Passion. In Nederland is de belangstelling voor 
 de Matthäus Passion van Bach onverminderd groot. Van der Veer weet de toe
 hoorders elk jaar opnieuw te verrassen met zijn toelichtingen op het compl
 exe passiestuk. Vooral de uitleg over de diepere lagen achter de wijze waa
 rop Bach de muziek schreef\, maakt dat de aanwezigen anders gaan luisteren
 . Deze prachtige muziek krijgt zo meer betekenis waarbij ook voor de vaste
  luisteraars nieuwe inzichten ontstaan.\n\nDat dit passieconcert ook onder
  koorzangers populair is\, blijkt uit het grote aantal projectzangers dat 
 zich aanmeldde bij Cantare. Het koor\, dat onder leiding staat van dirigen
 te Willie den Hollander\, verdubbelde bijna in omvang.\nDaarnaast vroeg he
 t koor bas-bariton Martijn Hop om enkele aria’s te zingen. Violiste Anne
 tte Jumelet begeleidt Hop bij deze aria’s.\nDe algehele muzikale medewer
 king is in handen van organist Leander van den Bos en celliste Corella Nij
 sse.\n\n&nbsp\;\n\n\n\nAanvang / zaal open\n\n 	Het concert begint om 16:0
 0 uur en duurt ongeveer vijf kwartier. Er is géén pauze.\n 	Inloop vanaf
  15:30uur.\n\n&nbsp\;\n\n\n\nTickets\n\n 	Tickets  €15\,-  aan de deur
  (betaling: contant of met PIN)\n\n&nbsp\;\n\n\n\nNicolaas-café\n\n 	Bezo
 ek vóór het optreden het Nicolaas-café voor een drankje en om elkaar te
  ontmoeten.\n
ATTACH;FMTTYPE=image/jpeg:https://www.grotekerkbrouwershaven.nl/wp-content
 /uploads/2025/04/24-06-18-Cantare-2.jpg
LOCATION:De Nicolaas\, Kerkplein 3\, Brouwershaven\, Zeeland\, 4318EB\, Ned
 erland
X-APPLE-STRUCTURED-LOCATION;VALUE=URI;X-ADDRESS=Kerkplein 3\, Brouwershaven
 \, Zeeland\, 4318EB\, Nederland;X-APPLE-RADIUS=100;X-TITLE=De Nicolaas:geo
 :0,0
END:VEVENT
BEGIN:VTIMEZONE
TZID:Europe/Amsterdam
X-LIC-LOCATION:Europe/Amsterdam
BEGIN:DAYLIGHT
DTSTART:20250330T030000
TZOFFSETFROM:+0100
TZOFFSETTO:+0200
TZNAME:CEST
END:DAYLIGHT
END:VTIMEZONE
END:VCALENDAR