BEGIN:VCALENDAR
VERSION:2.0
PRODID:-//wp-events-plugin.com//6.6.4.4//EN
BEGIN:VEVENT
UID:87@grotekerkbrouwershaven.nl
DTSTART:20240518T200000Z
DTEND:20240518T220000Z
DTSTAMP:20240411T144057Z
URL:https://www.grotekerkbrouwershaven.nl/Agenda/cantatekaravaan/
SUMMARY:Cantatekaravaan
DESCRIPTION:&nbsp\;\n\nDe Maria Magdalena Cantorij | Goes werd opgericht
  in 1976 door toenmalige cantor-organist Kees van Eersel.\nDe zangers\, di
 e van tijd tot tijd ook aangevuld worden met instrumentalisten treden sind
 sdien geregeld op tijdens concerten in Goes en op andere plaatsen in Zeela
 nd en daarbuiten. Het koor werkt ook afwisselend mee aan Erediensten\, Can
 tatediensten en Getijdendiensten zoals vespers en soms ook een Choral Even
 song in de Grote of Maria Magdalenakerk. Het repertoire van het koor besla
 at de hele geschiedenis van de kerkmuziek\, van gregoriaans tot hedendaags
 \, van eenstemmig tot dubbelkorig\, van liedzetting tot motet\, van chant 
 tot cantate\, van requiem tot oratorium. Per activiteit werken wij in vers
 chillende bezettingen\, soms is het koor uitgebreid met extra zangers en s
 oms is het slechts een solistenensemble.\n\nIn het vaste repertoire zijn b
 ekende componisten vertegenwoordigd\, zoals Palestrina\, Purcell\, Tallis\
 , Charpentier\, Händel\, Bach\, Brahms\, Mendelssohn\, Stanford\, Poulenc
 \, Duruflé\, Britten\, Reger\, Distler\, Manneke en Pärt. Het vaste repe
 rtoire wordt regelmatig uitgebreid met nieuwe stukken en opdrachtcompositi
 es.De Maria Magdalena Cantorij werkt ook mee aan bijzondere regionale gebe
 urtenissen in bijvoorbeeld de Grote of Maria Magdalenakerk\, zoals bij de 
 herdenking en viering van 4 en 5 mei\, de herdenking van de watersnood 195
 3\, en andere bijeenkomsten die impact hebben voor de regio.\n\nRutger Val
 entijn Mauritz\nRutger begon zijn muzikale loopbaan door vioollessen te ne
 men maar besloot uiteindelijk om hoofdvak koordirectie en kerkmuziek te ga
 an studeren aan de conservatoria van Utrecht en Maastricht.  Tijdens en n
 a zijn studie zong hij in verschillende hoog aangeschreven koren zoals de 
 Domcantorij van Utrecht en het Kölner Kammerchor. Ook was hij gastdirigen
 t bij het Ensemble Vocal de Luxembourg en dirigeerde hij ensembles van het
  conservatorium Codarts te Rotterdam\, het Koninklijk Conservatorium van D
 en Haag en het Koninklijk Conservatorium van Antwerpen. Na het behalen van
  de Master koor- en orkestdirectie in Maastricht ronde hij tevens een Univ
 ersitaire opleiding af aan de faculteit Kunst- en Cultuurwetenschappen van
  de Universiteit Maastricht. Sinds 2016 is hij werkzaam als cantor van de 
 Grote of Maria Magdalenakerk te Goes. Daarnaast is hij als artistiek advis
 eur betrokken op het gebied van professionele podiumkunsten bij het Fonds 
 Podiumkunsten in Den Haag en bij de cultuurafdeling van de stad Rotterdam.
  Ook is hij voorzitter van de stichting Zaterdagmiddagmuziek Domkerk Utre
 cht.
ATTACH;FMTTYPE=image/jpeg:https://www.grotekerkbrouwershaven.nl/wp-content
 /uploads/2024/04/cantatekaravaan-mei-2024-724x1024-1.png
END:VEVENT
END:VCALENDAR