BEGIN:VCALENDAR
VERSION:2.0
PRODID:-//wp-events-plugin.com//6.6.4.4//EN
BEGIN:VEVENT
UID:56@grotekerkbrouwershaven.nl
DTSTART:20230616T200000Z
DTEND:20230616T220000Z
DTSTAMP:20230522T142149Z
URL:https://www.grotekerkbrouwershaven.nl/Agenda/concert-zeeuws-orkest/
SUMMARY:Concert - Zeeuws Orkest
DESCRIPTION:\n\nZomerconcert met sopraan Anneke Luyten.\n\nNadere info: Kl
 ik hier
END:VEVENT
END:VCALENDAR