BEGIN:VCALENDAR
VERSION:2.0
PRODID:-//wp-events-plugin.com//6.6.4.4//EN
BEGIN:VEVENT
UID:106@grotekerkbrouwershaven.nl
DTSTART;TZID=Europe/Amsterdam:20250729T201500
DTEND;TZID=Europe/Amsterdam:20250729T211500
DTSTAMP:20250220T085108Z
URL:https://www.grotekerkbrouwershaven.nl/Agenda/hector-olivera-usa-concer
 torganist/
SUMMARY:Hector Olivera (USA) - concertorganist
DESCRIPTION:Uniek Orgelrecital in De Nicolaas  \n\n&nbsp\;\n\nErvaar een e
 xclusief concert van de wereldberoemde organist Hector Olivera\, een virtu
 oos die internationaal wordt geprezen om zijn ongeëvenaarde muzikaliteit 
 en technische beheersing. Van Carnegie Hall tot Royal Albert Hall\, van de
  Notre-Dame in Parijs tot de Walt Disney Concert Hall in Los Angeles\, Oli
 vera heeft zich bewezen als een van de meest indrukwekkende orgelvirtuozen
  van deze tijd.\n\n&nbsp\;\n\nOver Hector Olivera  \n\n🎼 Buitengewoon 
 talent – Als zesjarig ‘wonderkind’ toegelaten tot het Conservatorium
  van Buenos Aires.\n\n🎼 Internationale carrière – Opgetreden in de V
 S\, Europa\, Azië\, Australië en Latijns-Amerika.\n\n🎼 Bekroonde musi
 cus – Winnaar van AGO’s National Improvisation Contest.\n\n🎼 Gewaar
 deerd solist – Uitgenodigd als gastsolist bij vooraanstaande symfonieork
 esten wereldwijd.\n\n&nbsp\;\n\nOlivera’s concerten zijn niet alleen muz
 ikaal meeslepend\, maar ook een indrukwekkende audiovisuele ervaring\, waa
 rin techniek\, emotie en virtuositeit samenkomen.\n\n&nbsp\;\n\nWaarom u d
 it concert niet wil missen?  \n\n✅ Wereldklasse organist – Een zeldza
 me kans om Hector Olivera live te horen.\n\n✅ Uniek repertoire – Van g
 rootschalige meesterwerken tot virtuoze improvisaties.\n\n✅ Bijzondere l
 ocatie – De Nicolaas biedt een prachtige akoestiek voor orgelmuziek.\n\n
 ✅ Eén avond\, één kans – Dit exclusieve recital duurt slechts één
  uur.\n\n&nbsp\;\n\nBeleef een avond met een van de meest gevierde organis
 ten van onze tijd in een unieke setting.\n\n&nbsp\;\n\n\n\nTickets\n\n 	Vo
 lwassenen €12\,50 / Jongeren tot 18 jaar €5\,00 (aan de deur +€1\,50
 )\n 	Ticketshop: klik hier\n\n&nbsp\;\n\n\n\nNicolaas-café\nBezoek vóó
 r en na afloop van het concert het Nicolaas-café voor een drankje\, om el
 kaar te ontmoeten en (zo mogelijk) om kennis te maken met de musici.
ATTACH;FMTTYPE=image/jpeg:https://www.grotekerkbrouwershaven.nl/wp-content
 /uploads/2025/02/Afbeelding5.jpg
LOCATION:De Nicolaas\, Kerkplein 3\, Brouwershaven\, Zeeland\, 4318EB\, Ned
 erland
X-APPLE-STRUCTURED-LOCATION;VALUE=URI;X-ADDRESS=Kerkplein 3\, Brouwershaven
 \, Zeeland\, 4318EB\, Nederland;X-APPLE-RADIUS=100;X-TITLE=De Nicolaas:geo
 :0,0
END:VEVENT
BEGIN:VTIMEZONE
TZID:Europe/Amsterdam
X-LIC-LOCATION:Europe/Amsterdam
BEGIN:DAYLIGHT
DTSTART:20250330T030000
TZOFFSETFROM:+0100
TZOFFSETTO:+0200
TZNAME:CEST
END:DAYLIGHT
END:VTIMEZONE
END:VCALENDAR