BEGIN:VCALENDAR
VERSION:2.0
PRODID:-//wp-events-plugin.com//6.6.4.4//EN
BEGIN:VEVENT
UID:133@grotekerkbrouwershaven.nl
DTSTART;TZID=Europe/Amsterdam:20260524T100000
DTEND;TZID=Europe/Amsterdam:20260524T110000
DTSTAMP:20260421T131849Z
URL:https://www.grotekerkbrouwershaven.nl/Agenda/kerkelijke-viering-met-de
 -cantatekaravaan/
SUMMARY:Kerkelijke viering met de CantateKaravaan
DESCRIPTION:Feestelijke viering met de CantateKaravaan onder leiding van di
 rigent Rutger Mauritz. Organist is Marien Stouten.
ATTACH;FMTTYPE=image/jpeg:https://www.grotekerkbrouwershaven.nl/wp-content
 /uploads/2026/04/cantatekaravaan4-2025-2026.jpg
LOCATION:De Nicolaas\, Kerkplein 3\, Brouwershaven\, Zeeland\, 4318EB\, Ned
 erland
X-APPLE-STRUCTURED-LOCATION;VALUE=URI;X-ADDRESS=Kerkplein 3\, Brouwershaven
 \, Zeeland\, 4318EB\, Nederland;X-APPLE-RADIUS=100;X-TITLE=De Nicolaas:geo
 :0,0
END:VEVENT
BEGIN:VTIMEZONE
TZID:Europe/Amsterdam
X-LIC-LOCATION:Europe/Amsterdam
BEGIN:DAYLIGHT
DTSTART:20260329T030000
TZOFFSETFROM:+0100
TZOFFSETTO:+0200
TZNAME:CEST
END:DAYLIGHT
END:VTIMEZONE
END:VCALENDAR