BEGIN:VCALENDAR
VERSION:2.0
PRODID:-//wp-events-plugin.com//6.6.4.4//EN
BEGIN:VEVENT
UID:134@grotekerkbrouwershaven.nl
DTSTART;TZID=Europe/Amsterdam:20260514T100000
DTEND;TZID=Europe/Amsterdam:20260514T110000
DTSTAMP:20260421T132145Z
URL:https://www.grotekerkbrouwershaven.nl/Agenda/kerkelijke-viering-met-ka
 thedraals-koor-utrecht/
SUMMARY:Kerkelijke viering met Kathedraals Koor Utrecht
DESCRIPTION:Kathedrale klanken uit Utrecht in Zeeuwse kerken tijdens Hemelv
 aartsweekend\nTijdens het Hemelvaartsweekend maakt het Kathedrale Koor Utr
 echt (KKU) een bijzondere muzikale reis door Zeeland. In drie markante ker
 ken brengt het koor een rijk en gevarieerd programma van liturgische koorm
 uziek\, waarmee het publiek wordt uitgenodigd tot verstilling\, bezinning 
 en muzikale beleving van hoog niveau.\n\nDe tournee begint op donderdag 14
  mei om 10.00 uur met een feestelijke viering in de Protestantse Grote of
  St Nicolaaskerk in Brouwershaven. Op zaterdag 16 mei om 17.00 uur verzor
 gt het koor een sfeervolle Choral Evensong in de Grote of Maria Magdalena
 kerk in Goes\, een traditie geworteld in de Anglicaanse kerkmuziek. De ree
 ks wordt afgesloten op zondag 17 mei met een viering in de Protestantse J
 acobskerk in Vlissingen.\n\nMet deze concertreis brengt het koor niet alle
 en muziek\, maar ook verbinding tussen tradities\, generaties en gemeensch
 appen.\nEen koor met geschiedenis en een unieke klank\nHet Kathedrale Koor
  Utrecht is verbonden aan de Sint-Catharinakathedraal en de Kathedrale Ko
 orschool Utrecht. Met wortels die teruggaan tot 1869 behoort het tot de ou
 dste koren van de stad. Wat het KKU bijzonder maakt\, is de samenstelling:
  kinderen\, jongeren en volwassenen zingen samen en vormen één muzikaal 
 geheel. De combinatie van jonge\, geschoolde stemmen en ervaren zangers zo
 rgt voor een heldere\, karakteristieke klank die het koor onderscheidt.\n\
 nOnder leiding van dirigent Hester Steensma-Westra heeft het koor zich on
 twikkeld tot een veelzijdig ensemble dat zowel liturgisch als concertant e
 en hoog niveau nastreeft. Organist Wim Does\, sinds 2026 verbonden als ka
 thedraalorganist\, begeleidt het koor en voegt met zijn internationale erv
 aring een extra dimensie toe aan de uitvoeringen.\nRepertoire: van traditi
 e tot vernieuwing\nHet repertoire van het KKU is breed en rijk. Centraal s
 taat de Nederlandse katholieke kerkmuziek van de 20e eeuw\, met werken van
  componisten als Hendrik Andriessen en Herman Strategier\, die nauw verbon
 den waren met het bisdom Utrecht. Daarnaast omvat het programma muziek uit
  de renaissance\, barok\, klassieke en romantische periode\, evenals heden
 daagse composities.\n\nOok muziek uit de Anglicaanse en Lutherse traditie 
 maakt deel uit van het repertoire\, wat onder meer tot uiting komt in de u
 itvoering van de Choral Evensong in Goes.\nMuziek die verbindt\nDe optrede
 ns in Zeeland vormen een uitnodiging aan kerkgangers\, muziekliefhebbers e
 n nieuwsgierige luisteraars om deze bijzondere combinatie van traditie\, k
 waliteit en bezieling te ervaren. Het Kathedrale Koor Utrecht laat horen h
 oe muziek generaties en religieuze verschillen overstijgt en een brug slaa
 t tussen verleden en heden.\n\nIedereen is van harte welkom.
ATTACH;FMTTYPE=image/jpeg:https://www.grotekerkbrouwershaven.nl/wp-content
 /uploads/2026/04/Koor-2022-maastricht-scaled-1.jpg
LOCATION:De Nicolaas\, Kerkplein 3\, Brouwershaven\, Zeeland\, 4318EB\, Ned
 erland
X-APPLE-STRUCTURED-LOCATION;VALUE=URI;X-ADDRESS=Kerkplein 3\, Brouwershaven
 \, Zeeland\, 4318EB\, Nederland;X-APPLE-RADIUS=100;X-TITLE=De Nicolaas:geo
 :0,0
END:VEVENT
BEGIN:VTIMEZONE
TZID:Europe/Amsterdam
X-LIC-LOCATION:Europe/Amsterdam
BEGIN:DAYLIGHT
DTSTART:20260329T030000
TZOFFSETFROM:+0100
TZOFFSETTO:+0200
TZNAME:CEST
END:DAYLIGHT
END:VTIMEZONE
END:VCALENDAR