BEGIN:VCALENDAR
VERSION:2.0
PRODID:-//wp-events-plugin.com//6.6.4.4//EN
BEGIN:VEVENT
UID:110@grotekerkbrouwershaven.nl
DTSTART;TZID=Europe/Amsterdam:20250812T201500
DTEND;TZID=Europe/Amsterdam:20250812T211500
DTSTAMP:20250220T085236Z
URL:https://www.grotekerkbrouwershaven.nl/Agenda/leo-van-doeselaar-orgelco
 ncert/
SUMMARY:Leo van Doeselaar - orgelconcert
DESCRIPTION:Meesterorganist in Concert \n\nBeleef een uniek orgelconcert d
 oor een van de meest vooraanstaande organisten van deze tijd: Leo van Does
 elaar. Als titulair organist van Het Concertgebouw Amsterdam en het Schnit
 ger-orgel van de Martinikerk Groningen\, staat Van Doeselaar wereldwijd be
 kend om zijn verfijnde interpretaties\, technische perfectie en diepgaande
  muzikaliteit.\n\n&nbsp\;\n\nEen veelzijdig musicus met internationale all
 ure\n\n🎼 Prijswinnende organist &amp\; pianist – Bekroond met o.a. de
  Edison en de ECHO Klassik Preis.\n\n🎼 Expert in historische uitvoering
 spraktijk – Gespecialiseerd in barok en vroeg klassieke muziek.\n\n🎼 
 Concertorganist in binnen- en buitenland – Gevraagd solist op de grootst
 e orgelfestivals wereldwijd.\n\n🎼 Docent &amp\; jurylid – Voormalig o
 rgelprofessor aan de Universität der Künste in Berlijn.\n\n&nbsp\;\n\nWa
 arom u dit concert niet wil missen? \n\n✅ Een zeldzame kans – Live op
 treden van een internationaal erkende orgelmeester.\n\n✅ Indrukwekkend r
 epertoire – Van vroege barok tot hedendaagse composities.\n\n✅ Monumen
 taal instrument – Bespeeld door een expert in klankkleur en interpretati
 e.\n\n✅ Authentieke uitvoering – Historisch geïnformeerde speelstijl 
 op topniveau.\n\n&nbsp\;\n\nAls organist van het Barokorkest van de Nederl
 andse Bachvereniging en een drijvende kracht achter het prestigieuze All o
 f Bach-project\, weet Leo van Doeselaar als geen ander hoe hij de klanken 
 van eeuwenoude muziek tot leven brengt. Dit concert biedt een unieke kans 
 om een van de grootste organisten van onze tijd live te horen.\n\n&nbsp\;\
 n\n\n\n\n\n\n\n\n\nTickets\n\n 	Volwassenen €12\,50 / Jongeren tot 18 ja
 ar €5\,00 (aan de deur +€1\,50)\n 	Ticketshop: klik hier\n\n&nbsp\;\n
 \n\n\nNicolaas-café\nBezoek vóór en na afloop van het concert het Nicol
 aas-café voor een drankje\, om elkaar te ontmoeten en (zo mogelijk) om ke
 nnis te maken met de musici.\n\n\n\n\n&nbsp\;\n\n\n\n\n
ATTACH;FMTTYPE=image/jpeg:https://www.grotekerkbrouwershaven.nl/wp-content
 /uploads/2025/02/Leo-van-Doeselaar.webp
LOCATION:De Nicolaas\, Kerkplein 3\, Brouwershaven\, Zeeland\, 4318EB\, Ned
 erland
X-APPLE-STRUCTURED-LOCATION;VALUE=URI;X-ADDRESS=Kerkplein 3\, Brouwershaven
 \, Zeeland\, 4318EB\, Nederland;X-APPLE-RADIUS=100;X-TITLE=De Nicolaas:geo
 :0,0
END:VEVENT
BEGIN:VTIMEZONE
TZID:Europe/Amsterdam
X-LIC-LOCATION:Europe/Amsterdam
BEGIN:DAYLIGHT
DTSTART:20250330T030000
TZOFFSETFROM:+0100
TZOFFSETTO:+0200
TZNAME:CEST
END:DAYLIGHT
END:VTIMEZONE
END:VCALENDAR