BEGIN:VCALENDAR
VERSION:2.0
PRODID:-//wp-events-plugin.com//6.6.4.4//EN
BEGIN:VEVENT
UID:91@grotekerkbrouwershaven.nl
DTSTART;VALUE=DATE:20240914
DTEND;VALUE=DATE:20240915
DTSTAMP:20240730T152317Z
URL:https://www.grotekerkbrouwershaven.nl/Agenda/open-monumentendag-brouwe
 rs-havenconcert/
SUMMARY:Brouwers-Havenconcert / Open Monumentendag
DESCRIPTION:BrouwersHavenConcert - in samenwerking met CASD.\n\n&nbsp\;\n\n
 Tijdens Open Monumentendag de gehele dag concerten in De Nicolaas.\n\nIn d
 e avond openluchtconcerten op de Markt en rond de Oude Haven in Brouwersha
 ven.\n\nToegang gratis\n\n&nbsp\;\n\n
ATTACH;FMTTYPE=image/jpeg:https://www.grotekerkbrouwershaven.nl/wp-content
 /uploads/2024/04/24016-posterA4_29juli_ONLINE-scaled.jpg
END:VEVENT
END:VCALENDAR